BEGIN:VCALENDAR
VERSION:2.0
PRODID:-//YourOrganization//EventDownload//DE
CALSCALE:GREGORIAN
METHOD:PUBLISH
BEGIN:VEVENT
UID:69e4ce8c54077@leapup.bitshifters.cloud
DTSTAMP:20260419T144604Z
DTSTART:20240524T150000Z
DTEND:20240524T170000Z
SUMMARY:Elections and democracy - sensitisation in the company and best practices | Dresden
DESCRIPTION:Dear biosaxony community\,\nDemocracy and openness to the world are not only fundamental values of our society\, but also essential factors for a stable and attractive business environment. In this context\, we cordially invite you to our upcoming event "Election and democracy - raising awareness in the company and best practices" in Dresden. 
LOCATION:BioInnovationsZentrum Dresden\, Tatzberg 47\, 01307 Dresden
END:VEVENT
END:VCALENDAR
