BEGIN:VCALENDAR
VERSION:2.0
PRODID:-//YourOrganization//EventDownload//DE
CALSCALE:GREGORIAN
METHOD:PUBLISH
BEGIN:VEVENT
UID:69e8ccf35e32e@leapup.bitshifters.cloud
DTSTAMP:20260422T152819Z
DTSTART:20240515T090000Z
DTEND:20240515T110000Z
SUMMARY:Elections and democracy - sensitisation in the company and best practices | Leipzig
DESCRIPTION:Dear biosaxony community\,\nDemocracy and openness to the world are not only fundamental values of our society\, but also essential factors for a stable and attractive business environment. In this context\, we cordially invite you to our upcoming event "Election and democracy - raising awareness in the company and best practices" in Leipzig . 
LOCATION:BIO CITY Leipzig\, Deutscher Platz 5\, 04103 Leipzig
END:VEVENT
END:VCALENDAR
