BEGIN:VCALENDAR
VERSION:2.0
PRODID:-//YourOrganization//EventDownload//DE
CALSCALE:GREGORIAN
METHOD:PUBLISH
BEGIN:VEVENT
UID:69e8b639afac0@leapup.bitshifters.cloud
DTSTAMP:20260422T135121Z
DTSTART:20210610T140000Z
DTEND:20210610T180000Z
SUMMARY:EUDAMED
DESCRIPTION:Training objectives:\n\nUnderstanding EUDAMED and its functional specifications\nInterpret EUDAMED data structures\, requirements and business rules\nImpact of EUDAMED on QMS of economic operator\n\nTraining content:\n\nIntroduction to EUDAMED\nEUDAMED readiness and time constraints\nActor registration module with the following subtopics:\n\n\nUser roles and hierarchy\nData required for actor registration\nObtaining SRN for economic operators (EU and non-EU) - EUDAMED Input screens\n\n&bull\; Device and UDI registration module with the following subtopics:\n\nData required for device registration\nData exchange options\n\n&bull\; EUDAMED impact on QMS
LOCATION:Online\, Lausanne
END:VEVENT
END:VCALENDAR
