BEGIN:VCALENDAR
VERSION:2.0
PRODID:-//YourOrganization//EventDownload//DE
CALSCALE:GREGORIAN
METHOD:PUBLISH
BEGIN:VEVENT
UID:69e4cec1441e2@leapup.bitshifters.cloud
DTSTAMP:20260419T144657Z
DTSTART:20251004T180000Z
DTEND:20251008T120000Z
SUMMARY:European Association of Nuclear Medicine (EANM) annual congress
DESCRIPTION:The EANM Annual Congress is a truly global event\, attracting about 10\,000 participants from all over the world. This diverse gathering of professionals provides a rich platform for the exchange of ideas\, fostering international collaboration and innovation. We are committed to exploring novel formats and interactions with experts\, ensuring that our congress remains at the forefront of scientific discourse and professional development.\nOne of the highlights of this year's congress will be the continued focus on novel advances in theranostics. This rapidly evolving field continues to revolutionise our approach to diagnosis and treatment\, offering unprecedented precision and personalised care for our patients. We have an exciting programme lined up\, featuring leading experts who will share their insights and latest research findings.
LOCATION:CCIB –  International Barcelona Convention Center\, Plaça de Willy Brandt 11-14\, 08019 Barcelona
END:VEVENT
END:VCALENDAR
