BEGIN:VCALENDAR
VERSION:2.0
PRODID:-//YourOrganization//EventDownload//DE
CALSCALE:GREGORIAN
METHOD:PUBLISH
BEGIN:VEVENT
UID:69e8b71c56b55@leapup.bitshifters.cloud
DTSTAMP:20260422T135508Z
DTSTART:20250513T100000Z
DTEND:20250513T120000Z
SUMMARY:Expert knowledge on medical devices and DRG remuneration
DESCRIPTION:Exchange views in an open format on current topics relating to the DRG system and the healthcare system. The focus is on dialogue: You will ask questions\, discuss practical challenges and gain insights into relevant developments. Use this opportunity to gain valuable impetus for your daily work and learn about new perspectives.\nThe interactive design of the seminar makes it possible to respond specifically to your needs and benefit from the experience of the speaker and other participants.\nYou have the opportunity to submit your own questions with your registration\, which will be answered by the speaker during the seminar.\nThis seminar is aimed at employees in the MedTech sector who are intensively involved with current developments and requirements in the healthcare sector. The focus is on direct dialogue with the speaker\, who can provide insights into practice-relevant topics and answer individual questions.
LOCATION:online
END:VEVENT
END:VCALENDAR
