BEGIN:VCALENDAR
VERSION:2.0
PRODID:-//YourOrganization//EventDownload//DE
CALSCALE:GREGORIAN
METHOD:PUBLISH
BEGIN:VEVENT
UID:69e8c9687c015@leapup.bitshifters.cloud
DTSTAMP:20260422T151312Z
DTSTART:20231010T090000Z
DTEND:20231012T160000Z
SUMMARY:Festival of Biologics
DESCRIPTION:The Festival of Biologics is your opportunity to hear from industry leaders\, global regulators and world-renowned academics at the forefront of innovation. Join us for 3 days of cutting-edge insights into the latest industry developments.&nbsp\;\nRegister now!
LOCATION:Messe  Basel\, Messeplatz 10\, 4005 Basel
END:VEVENT
END:VCALENDAR
