BEGIN:VCALENDAR
VERSION:2.0
PRODID:-//YourOrganization//EventDownload//DE
CALSCALE:GREGORIAN
METHOD:PUBLISH
BEGIN:VEVENT
UID:69e8c9be63e84@leapup.bitshifters.cloud
DTSTAMP:20260422T151438Z
DTSTART:20250916T090000Z
DTEND:20250917T150000Z
SUMMARY:Fraunhofer IWU Open House 2025 | B2B Production Forum
DESCRIPTION:Join us on 16 and 17 September 2025 when the Fraunhofer IWU in Chemnitz becomes a centre for innovation and exchange! Our B2B Production Forum is aimed at researchers and industry experts and offers you an excellent opportunity to discover new ideas and explore pioneering technologies.\nLook forward to a varied programme with exciting test fields\, inspiring specialist presentations and interactive workshops! The topics include:\n\nFine machining and grinding: Discover the latest development trends and processes\nProfile processing: Get to know innovative techniques for sheet metal and solid forming\nDigitalisation in production: Experience how processes\, cloud services and industrial services work together seamlessly.
LOCATION:Fraunhofer IWU\, Reichenhainer Str. 88\, 091296 Chemnitz
END:VEVENT
END:VCALENDAR
