BEGIN:VCALENDAR
VERSION:2.0
PRODID:-//YourOrganization//EventDownload//DE
CALSCALE:GREGORIAN
METHOD:PUBLISH
BEGIN:VEVENT
UID:69e8b6c62a9cc@leapup.bitshifters.cloud
DTSTAMP:20260422T135342Z
DTSTART:20241015T090000Z
DTEND:20241015T093000Z
SUMMARY:Free webinar µKPI: Suite of tools for microbiological method key performance indicators
DESCRIPTION:&micro\;KPI: Suite of tools for microbiological method key performance indicatorsFree webinar &micro\;KPI - 15th October 2024In this webinar\, we introduce &micro\;KPI for verification of microbiological methods according to ISO 16140 Part 3.The web-seminar will start at 9 am CST (Central Standard Time) and take about 30 minutes.\n&nbsp\;\n&micro\;KPI is a browser-based software solution and includes a suite of tools for determination of microbiological method key performance indicators.A variety of protocols for in-house validation and verification of microbiological methods are available.Using the Study Designer\, you will be guided to an appropriate study design.\n&nbsp\;\nThere is further guidance for setting up the experiment design\, and data can easily be imported and saved in a database.Experimental data are statistically evaluated\, and acceptability limits are checked.A report is generated automatically and can be downloaded.\nMORE
END:VEVENT
END:VCALENDAR
