BEGIN:VCALENDAR
VERSION:2.0
PRODID:-//YourOrganization//EventDownload//DE
CALSCALE:GREGORIAN
METHOD:PUBLISH
BEGIN:VEVENT
UID:69e8b60134ddb@leapup.bitshifters.cloud
DTSTAMP:20260422T135025Z
DTSTART:20240528T110000Z
DTEND:20240528T114500Z
SUMMARY:From the idea to the brand
DESCRIPTION:Brands are more than "just" a label for a product or service\, even if their main task is still to differentiate your own offering from that of the competition and to give it a distinctive identity with recognition value.
END:VEVENT
END:VCALENDAR
