BEGIN:VCALENDAR
VERSION:2.0
PRODID:-//YourOrganization//EventDownload//DE
CALSCALE:GREGORIAN
METHOD:PUBLISH
BEGIN:VEVENT
UID:69e4ce8c5384b@leapup.bitshifters.cloud
DTSTAMP:20260419T144604Z
DTSTART:20221102T140000Z
DTEND:20221102T150000Z
SUMMARY:Functional safety according to ISO26262 − State-of-the-art for safety critical systems and future developments
DESCRIPTION:Our experts will give you an outlook of how systems can be constructed prospectively - even without a considerable amount of material\, weight and costs - but yet still comply with standards and hence are designed safely.
END:VEVENT
END:VCALENDAR
