BEGIN:VCALENDAR
VERSION:2.0
PRODID:-//YourOrganization//EventDownload//DE
CALSCALE:GREGORIAN
METHOD:PUBLISH
BEGIN:VEVENT
UID:69e8b72157b38@leapup.bitshifters.cloud
DTSTAMP:20260422T135513Z
DTSTART:20240515T100000Z
DTEND:20240516T180000Z
SUMMARY:future of health
DESCRIPTION:\nWhere in Germany can you mingle with experts\, network\, and learn about the next big thing(s) in health? In Leipzig of course\, at the\n
LOCATION:Media City Leipzig\, Altenburger Straße 15\, 04275 Leipzig
END:VEVENT
END:VCALENDAR
