BEGIN:VCALENDAR
VERSION:2.0
PRODID:-//YourOrganization//EventDownload//DE
CALSCALE:GREGORIAN
METHOD:PUBLISH
BEGIN:VEVENT
UID:69e8cb88a5458@leapup.bitshifters.cloud
DTSTAMP:20260422T152216Z
DTSTART:20250904T100000Z
DTEND:20250904T200000Z
SUMMARY:futureSAX Innovation Forum II - Life Sciences & Healthcare
DESCRIPTION:Since 2012\, the futureSAX Innovation Forum has been the central impulse event for SMEs in Saxony with around 150 participants. The format brings scientists and companies together to facilitate the transfer of innovative developments into practice and pave the way for companies to establish a broader-based business field.\nThe forum aims to provide an outlook on the healthcare of tomorrow and drive forward the market launch and system integration of innovations.\n\n04 September 2025 \nBIO CITY Leipzig\nBecome an exhibitor now\n\nIf you would also like to present yourself with a stand in the exhibitor and networking area\, please also fill out the following form: Exhibitor enquiry\nSure your participation and shape the future together - we look forward to seeing you!
LOCATION:BIO CITY LEIPZIG\, Deutscher Platz 5\, 04103 Leipzig 
END:VEVENT
END:VCALENDAR
