BEGIN:VCALENDAR
VERSION:2.0
PRODID:-//YourOrganization//EventDownload//DE
CALSCALE:GREGORIAN
METHOD:PUBLISH
BEGIN:VEVENT
UID:69e8b6018e36a@leapup.bitshifters.cloud
DTSTAMP:20260422T135025Z
DTSTART:20250409T090000Z
DTEND:20250410T170000Z
SUMMARY:German Biotechnology Days 2025
DESCRIPTION:DBT will take place on 9 and 10 April in Heidelberg. The event is regarded as the German forum for the biotechnology sector\, where entrepreneurs can exchange ideas with scientists and partners from politics\, investors\, research institutions and administration. The two-day programme highlights the diverse fields of application and the potential of biotechnology\, from health research to bioeconomy.\nThe DBT 2025 offers:\n\na good mix of presentations\, panel discussions and breakout sessions\,\nmore than 900 participants\nthe largest and most diverse industry exhibition to date\,\na partnering platform for targeted meetings and exchanges\,\nevening networking receptions and\nabove all\, plenty of time to get to know each other\, exchange ideas and be inspired.\n\nFurther information on the event can be found here.
LOCATION:Heidelberg Congress Center\, Czernyring 20\, 69115 Heidelberg
END:VEVENT
END:VCALENDAR
