BEGIN:VCALENDAR
VERSION:2.0
PRODID:-//YourOrganization//EventDownload//DE
CALSCALE:GREGORIAN
METHOD:PUBLISH
BEGIN:VEVENT
UID:69e89ed5ac949@leapup.bitshifters.cloud
DTSTAMP:20260422T121133Z
DTSTART:20241127T110000Z
DTEND:20241127T123000Z
SUMMARY:GO-Bio initial
DESCRIPTION:The GO-Bio initial programme promotes the identification and development of early life science research approaches with recognisable innovation potential. As part of the project implementation\, the research results should reach a level of maturity that enables them to be continued in other established validation\, start-up and company cooperation funding programmes\, such as VIP+\, EXIST Transfer of Research\, KMU-innovativ or GO-Bio next. The overriding goal is the seamless transfer of promising ideas into application.\nThe GO-Bio initial information event will inform you about how the programme is structured\, who is eligible to apply and how the application and selection phases are structured.\nParticipation in the webinar is free of charge.\nFurther information on the funding initiative can be found here. \nFurther information on the information event and the opportunity to register can be found on this website!
END:VEVENT
END:VCALENDAR
