BEGIN:VCALENDAR
VERSION:2.0
PRODID:-//YourOrganization//EventDownload//DE
CALSCALE:GREGORIAN
METHOD:PUBLISH
BEGIN:VEVENT
UID:69e4cbf553cb8@leapup.bitshifters.cloud
DTSTAMP:20260419T143501Z
DTSTART:20241104T093000Z
DTEND:20241105T150000Z
SUMMARY:Hi-Tech Forum and 2nd Hi-Acts Network Meeting
DESCRIPTION:The Hi-Tech Forum and Hi-Acts cordially invite you to join an exclusive event bringing together outstanding experts from science\, industry and medicine. This event\, hosted by the Helmholtz Center Dresden-Rossendorf\, is an unparalleled opportunity for dialogue and collaboration in a joint forum.\nThe aim is to bring together industry representatives\, healthcare stakeholders and innovation experts to promote new ideas and joint initiatives along the entire value chain of accelerator technologies. Together with them\, current and future opportunities for commercial applications will be explored.\nRegister now!
LOCATION:Lecture Hall - HZDR\, Bautzner Landstraße 400\, 01328 Dresden
END:VEVENT
END:VCALENDAR
