BEGIN:VCALENDAR
VERSION:2.0
PRODID:-//YourOrganization//EventDownload//DE
CALSCALE:GREGORIAN
METHOD:PUBLISH
BEGIN:VEVENT
UID:69e4ce4cb1f7b@leapup.bitshifters.cloud
DTSTAMP:20260419T144500Z
DTSTART:20251028T083000Z
DTEND:20251029T140000Z
SUMMARY:Hi-Tech meets Life Science Forum: Radiopharmacy in Saxony
DESCRIPTION:Radiopharmacy in Europe is at the dawn of a new era - and Saxony can play a key role.\nExperience an extraordinary event that brings together leading minds from science\, industry\, clinics\, politics and innovation networks. \nWhen the Hi-Tech Forum (a format of the HZDR) and the Life Science Forum (a format of the WFS) join forces\, a space for exchange\, new impulses and forward-looking cooperation along the entire radiopharmaceutical value chain is created.\nUnder the motto "Expanding value creation - strengthening the radiopharmaceutical ecosystem in Saxony"\, we will highlight key development steps in three thematically focussed sessions: \n\nNew radionuclides\, \nRadiopharma production and \nClinical use.\n\nLook forward to a versatile programme with:\n\nInnoSpeedDating B2Match for targeted contacts\nTalkshow Hot Spot Saxony: How Radiopharmacy Finds a Home Here\nIndustry Tour to relevant network partners\nKickstart Radiopharma - Breakfast &amp\; Exchange to kick off the second day\n\nLet's shape the future of radiopharmacy in Saxony - together!\n
LOCATION:Parkhotel Dresden\, Bautzner Landstraße 7\, 01324 Dresden
END:VEVENT
END:VCALENDAR
