BEGIN:VCALENDAR
VERSION:2.0
PRODID:-//YourOrganization//EventDownload//DE
CALSCALE:GREGORIAN
METHOD:PUBLISH
BEGIN:VEVENT
UID:69e744245f80b@leapup.bitshifters.cloud
DTSTAMP:20260421T113220Z
DTSTART:20250616T080000Z
DTEND:20250619T170000Z
SUMMARY:HLTH Europe
DESCRIPTION:Europe's #1 healthcare innovation event\nHLTH Europe is where global expertise meets local insight to address Europe's unique healthcare challenges and opportunities. From digital health breakthroughs to policy innovations\, HLTH Europe offers an immersive experience shaping the future of European healthcare. Join us at the epicentre of transformation\, where healthcare providers\, policymakers\, and pioneers unite to create a healthier Europe for all.\nClick here to learn more about the event!
LOCATION:RAI Convention Centre\, Europaplein 24\, 1078  Amsterdam
END:VEVENT
END:VCALENDAR
