BEGIN:VCALENDAR
VERSION:2.0
PRODID:-//YourOrganization//EventDownload//DE
CALSCALE:GREGORIAN
METHOD:PUBLISH
BEGIN:VEVENT
UID:69e8a3dda66eb@leapup.bitshifters.cloud
DTSTAMP:20260422T123301Z
DTSTART:20240229T140000Z
DTEND:20240229T153000Z
SUMMARY:Hot on the heels of "stowaways" - Methods for investigating the spread of bacterial virulence factors by bacteriophages
DESCRIPTION:Bacteriophages are regarded as a promising alternative or supplement to antibiotics in medicine\, agriculture and livestock farming. However\, there are still unanswered questions regarding their interaction with host bacteria that prevent their widespread use as a form of therapy: some bacteriophages are able to incorporate their DNA into the bacterial chromosome as so-called prophages and multiply with the bacterial host without destroying the bacterium (lysogenic cycle of a &bdquo\;temperate&ldquo\; phage). However\, certain factors can also cause such bacteriophages to dissolve their host and infect other bacteria (lytic cycle). In doing so\, they not only transfer their own genome\, but often also genes that mediate virulence and resistance. 
END:VEVENT
END:VCALENDAR
