BEGIN:VCALENDAR
VERSION:2.0
PRODID:-//YourOrganization//EventDownload//DE
CALSCALE:GREGORIAN
METHOD:PUBLISH
BEGIN:VEVENT
UID:69e8cb88b66df@leapup.bitshifters.cloud
DTSTAMP:20260422T152216Z
DTSTART:20241205T120000Z
DTEND:20241205T180000Z
SUMMARY:How to turn medical device data into insights & stay compliant
DESCRIPTION:Are you confident your current data systems are protecting device and patient data while driving innovation?&nbsp\;&nbsp\;\nCan you afford to delay the insights that could transform your devices - and your business?&nbsp\;&nbsp\;\nAnd what happens if a compliance gap is uncovered tomorrow?\nIf these questions make you shift uneasily\, you&rsquo\;re not alone.\nJoin the webinar that MedTech leaders can&rsquo\;t afford to miss: How to turn medical device data into insights &amp\; stay compliant\nThis webinar is designed for medical device professionals looking to maximize the value of their data. Whether you are a business owner\, work in data science\, product development\, or compliance\, you&rsquo\;ll gain actionable insights to navigate the complexities of data analytics and regulatory compliance in the medical device industry.\nReserve your spot now!
END:VEVENT
END:VCALENDAR
