BEGIN:VCALENDAR
VERSION:2.0
PRODID:-//YourOrganization//EventDownload//DE
CALSCALE:GREGORIAN
METHOD:PUBLISH
BEGIN:VEVENT
UID:69e89f12df504@leapup.bitshifters.cloud
DTSTAMP:20260422T121234Z
DTSTART:20220608T150000Z
DTEND:20220608T160000Z
SUMMARY:IC Reliability – an Overview
DESCRIPTION:Our webinar on IC reliability provides an overview on measurements and simulations to ensure the reliability of ICs\, especially for long-term applications. In particular\, we highlight the flow from technology qualification based on wafer level reliability measurements to degradation models that can be used in aging simulations to virtually investigate the reliability of a design before entering manufacturing.
LOCATION:Fraunhofer IIS/EAS\, Münchner Straße\, 01187 Dresden
END:VEVENT
END:VCALENDAR
