BEGIN:VCALENDAR
VERSION:2.0
PRODID:-//YourOrganization//EventDownload//DE
CALSCALE:GREGORIAN
METHOD:PUBLISH
BEGIN:VEVENT
UID:69e8b600a488b@leapup.bitshifters.cloud
DTSTAMP:20260422T135024Z
DTSTART:20240131T160000Z
DTEND:20240131T170000Z
SUMMARY:Incisions - Insights: Individualised surgery: sensor technology | robotics | AI
DESCRIPTION:\n\n\n\n\nFree online event to get to know each other and meet again with insights and insights exclusively for medical technicians at the Institute of Clinical Anatomy at the University of Tübingen\nThe event on the specialist area of&nbsp\;&bdquo\;Individualised Surgery: Sensor Technology | Robotics | AI&ldquo\;&nbsp\;will once again take place with live transmissions in the operating theatre of the Clinical Anatomy Department. Leading physicians from various specialities will be demonstrating the medical need at the anatomical presentation.\nThe participants - medical technicians and engineers - are present online and can discuss new ideas for instruments or methods live with the doctors.\nParticipation in the event is reserved for employees from the development departments of medical technology companies and medical technology students. An exciting exchange of ideas between doctors and developers via live chat is therefore guaranteed.\n\n\n\n\n\n\n\n\n\n&nbsp\;\nFurther information\n\n\n\n
END:VEVENT
END:VCALENDAR
