BEGIN:VCALENDAR
VERSION:2.0
PRODID:-//YourOrganization//EventDownload//DE
CALSCALE:GREGORIAN
METHOD:PUBLISH
BEGIN:VEVENT
UID:69e4e5a0afee8@leapup.bitshifters.cloud
DTSTAMP:20260419T162432Z
DTSTART:20241204T120000Z
DTEND:20241204T130000Z
SUMMARY:Information event on the GO-Bio next funding programme
DESCRIPTION:Innovative business ideas in the field of life sciences often require extensive research before they are ready for the market. With the "Biotechnology Start-up Initiative"\, the Federal Ministry of Education and Research (BMBF) has been supporting research teams since 2005 in validating life science technologies and findings through to the establishment of a company.\nThe funding is divided into two phases:\nPhase 1: Support for research projects at universities and research institutions.\nPhase 2: Promotion of the continuation of these projects in newly founded companies.\nAs the responsible project sponsor\, the VDI/VDE Innovation + Technik GmbH provides information on the main contents of the funding programme and gives you practical tips on how to successfully submit an outline. Take the opportunity to obtain comprehensive information and clarify any unanswered questions.
END:VEVENT
END:VCALENDAR
