BEGIN:VCALENDAR
VERSION:2.0
PRODID:-//YourOrganization//EventDownload//DE
CALSCALE:GREGORIAN
METHOD:PUBLISH
BEGIN:VEVENT
UID:69e4c83154722@leapup.bitshifters.cloud
DTSTAMP:20260419T141857Z
DTSTART:20250324T090000Z
DTEND:20250324T180000Z
SUMMARY:INNOVATIVE BIO-BASED MATERIALS AND TECHNOLOGIES: Shaping Future Regional Development and Perspectives
DESCRIPTION:The Research and Transfer Center for Bioactive Matter kindly invites you to engage in a dynamic discussion centered on bio-based materials and cutting-edge technologies for novel applications.Key Topics:\n\nNew methodologies and principles in bioactive matter and AI for advancing sustainable technologies\nTechnology transfer in natural and life sciences\, with a focus on fostering innovation and start-ups in these fields\nChemical production within a circular economy framework\nResource management and sustainability\, including critical areas such as energy\, feed\, and water\nSensor technologies for applications in medicine and environmental monitoring\n\nRegister until 1st March 2025!\nClick here for more information!
LOCATION:BIO CITY LEIPZIG Centre for Biotechnology and Biomedicine (BBZ) Leipzig University\, Deutscher Platz 5\, 04103 Leipzig
END:VEVENT
END:VCALENDAR
