BEGIN:VCALENDAR
VERSION:2.0
PRODID:-//YourOrganization//EventDownload//DE
CALSCALE:GREGORIAN
METHOD:PUBLISH
BEGIN:VEVENT
UID:69e6216772d46@leapup.bitshifters.cloud
DTSTAMP:20260420T145151Z
DTSTART:20231108T150000Z
DTEND:20231108T160000Z
SUMMARY:Introduction to Requirement Engineering 
DESCRIPTION:Requirements Engineering ist ein wichtiger Prozess der Definition\, Dokumentation und Pflege von Anforderungen w&auml\;hrend des Lebenszyklus eines Produkts. Das Webinar konzentriert sich auf die Ziele des Requirements Engineering\, wie es die R&uuml\;ckverfolgbarkeit von Anforderungen sicherstellt und wie es mit der Produktentwicklung verbunden ist. Die Teilnehmer erwerben wesentliche Kenntnisse und F&auml\;higkeiten\, um Anforderungen effektiv zu erfassen\, zu analysieren und zu verwalten und so erfolgreiche Projektergebnisse zu erzielen.\nWeitere Informationen
LOCATION:Fraunhofer IIS/EAS\, Münchner Straße 16\, 01187 Dresden Dresden
END:VEVENT
END:VCALENDAR
