BEGIN:VCALENDAR
VERSION:2.0
PRODID:-//YourOrganization//EventDownload//DE
CALSCALE:GREGORIAN
METHOD:PUBLISH
BEGIN:VEVENT
UID:69e4c852c365b@leapup.bitshifters.cloud
DTSTAMP:20260419T141930Z
DTSTART:20220602T090000Z
DTEND:20220602T173000Z
SUMMARY:KI-Grundlagenschulung (EN)
DESCRIPTION:K&uuml\;nstliche Intelligenz f&uuml\;r Einsteiger*innen\nUnsere Grundlagenschulungen &raquo\;KI-Einsteiger Business &amp\; Tech&laquo\;\, die wir in Kooperation mit dem&nbsp\;INC Invention Center anbieten\, sind das ideale Fundament\, wenn Sie in Ihrem Unternehmen neu in der Welt der K&uuml\;nstlichen Intelligenz und des Maschinellen Lernens sind.\nIn einer eint&auml\;gigen (online-)Schulung bieten wir Ihnen einen Einstieg in Inhalt und Methoden und schaffen ein Grundverst&auml\;ndnis f&uuml\;r KI. Die Lerninhalte reichen dabei von grundlegende Erkl&auml\;rungen &uuml\;ber Best-Practice-Beispiele und Anwendungsf&auml\;lle bis hin zur Entmystifizierung der Technologien hinter KI-basierten L&ouml\;sungen.\nDie Schulungssprache zu diesem Termin ist Englisch. Dar&uuml\;ber hinaus ist die Schulung auch in Deutsch verf&uuml\;gbar.&nbsp\;\nPreis: 495\,00 Euro pro Person zzgl. MwSt.
LOCATION:Fraunhofer-Institut für Integrierte Schaltungen IIS\, Institutsteil Entwicklung Adaptiver Systeme EAS\, 01187 Dresden
END:VEVENT
END:VCALENDAR
