BEGIN:VCALENDAR
VERSION:2.0
PRODID:-//YourOrganization//EventDownload//DE
CALSCALE:GREGORIAN
METHOD:PUBLISH
BEGIN:VEVENT
UID:69e4c8409bc24@leapup.bitshifters.cloud
DTSTAMP:20260419T141912Z
DTSTART:20221107T090000Z
DTEND:20221111T180000Z
SUMMARY:KI-Intensivschulung (EN)
DESCRIPTION:K&uuml\;nstliche Intelligenz f&uuml\;r Fortgeschrittene\nDas Intensivtraining &raquo\;KI Professional Business&laquo\;\, das wir gemeinsam mit dem INC Invention Center anbieten\, vermittelt Ihnen einen bew&auml\;hrten methodischen Ansatz von der Ideenfindung &uuml\;ber das Assessment und Datentesting bis hin zu agilen Implementierungsmethoden.\nLernen Sie an praktischen Beispielen\, wie Sie die Methode in Ihrem eigenen Unternehmen anwenden k&ouml\;nnen und tauchen Sie tiefer in aktuelle Trendthemen der KI ein. Das Training richtet sich an Fach- und F&uuml\;hrungskr&auml\;fte\, die sich dem Thema K&uuml\;nstliche Intelligenz und Big Data aus einer wirtschaftlichen Perspektive n&auml\;hern wollen\, die fundierte\, praxiserprobte Ans&auml\;tze erlernen und praktische Erfahrungen mit den wichtigsten Methoden der agilen KI-Implementierung sammeln wollen.\nDie Schulungssprache zu diesem Termin ist Englisch. Dar&uuml\;ber hinaus ist die Schulung auch in Deutsch verf&uuml\;gbar.&nbsp\;\nPreis: 3.995\,00 Euro pro Person zzgl. MwSt.
LOCATION:Fraunhofer-Institut für Integrierte Schaltungen IIS\, Institutsteil Entwicklung Adaptiver Systeme EAS\, 01187 Dresden
END:VEVENT
END:VCALENDAR
