BEGIN:VCALENDAR
VERSION:2.0
PRODID:-//YourOrganization//EventDownload//DE
CALSCALE:GREGORIAN
METHOD:PUBLISH
BEGIN:VEVENT
UID:69e8b5cd7dc78@leapup.bitshifters.cloud
DTSTAMP:20260422T134933Z
DTSTART:20250925T090000Z
DTEND:20250925T163000Z
SUMMARY:Leading teams in projects
DESCRIPTION:On the subject:Project managers should motivate new teams to perform as quickly as possible and thus achieve the project goals together. However\, unlike department heads\, project managers are not usually subject to disciplinary authority. This makes it difficult to manage a project ("general without an army"). In addition\, the team members often have other tasks in the company alongside their project work. This poses a particular challenge for project management. In this seminar\, we will show you how to lead your team members to success together and constructively.
LOCATION:BIO CITY Leipzig\, Deutscher Platz 5c\, 04103 Leipzig
END:VEVENT
END:VCALENDAR
