BEGIN:VCALENDAR
VERSION:2.0
PRODID:-//YourOrganization//EventDownload//DE
CALSCALE:GREGORIAN
METHOD:PUBLISH
BEGIN:VEVENT
UID:69e8a12de9597@leapup.bitshifters.cloud
DTSTAMP:20260422T122133Z
DTSTART:20250428T000000Z
DTEND:20250430T130000Z
SUMMARY:Life Science Investment | LSX World Congress
DESCRIPTION:LSX World Congress 2025 will take place from April 28-30\, 2025 at the Business Design Centre in London\, UK. It is a leading event for partnerships\, strategies and investments in the life sciences sector.\nHighlights:\n\nPartnering: 1:1 meetings between biopharma\, medtech\, healthtech executives and investors.\nSpecialist program: Over 250 expert presentations and best practice sessions.\nDay Zero - Forum Day: Dedicated forums for CEOs to foster strategic connections.\n\nThe conference offers delegate\, investor and presentation passes.\nMore information here!
LOCATION:Business Design Centre Ltd\, 52 Upper St\, N1 0Q London
END:VEVENT
END:VCALENDAR
