BEGIN:VCALENDAR
VERSION:2.0
PRODID:-//YourOrganization//EventDownload//DE
CALSCALE:GREGORIAN
METHOD:PUBLISH
BEGIN:VEVENT
UID:69e8e1ed7e213@leapup.bitshifters.cloud
DTSTAMP:20260422T165749Z
DTSTART:20240710T120000Z
DTEND:20240710T130000Z
SUMMARY:MD Comp: How the safe and compliant integration of medical devices and non-medical devices succeeds
DESCRIPTION:Digitalisation and integration in the medical technology sector are progressing. This is accompanied by the networking of medical devices of all kinds with a wide variety of non-medical devices. Typical examples of this are patient monitoring or the digitalised operating theatre.\nIt is a considerable challenge for manufacturers and operators to integrate medical devices with non-medical devices in systems with a medical purpose while demonstrably guaranteeing safety and performance. With &bdquo\;MD Comp&ldquo\;\, the VDE has developed a new concept that addresses this problem. MD Comp offers a structured approach to qualifying the technical properties of non-medical devices so that they can be integrated into medical systems in a compliant manner.\nIn this free online event\, the authors will present the new recommendation. Join us and find out first-hand what innovative concepts MD Comp has to offer.&nbsp\;\nDownload the publication here free of charge: www.vde.com/md-comp
LOCATION:MS Teams\, Offenbach
END:VEVENT
END:VCALENDAR
