BEGIN:VCALENDAR
VERSION:2.0
PRODID:-//YourOrganization//EventDownload//DE
CALSCALE:GREGORIAN
METHOD:PUBLISH
BEGIN:VEVENT
UID:69e4cec155b7c@leapup.bitshifters.cloud
DTSTAMP:20260419T144657Z
DTSTART:20241111T000000Z
DTEND:20241114T000000Z
SUMMARY:MEDICA - Trade Fair for Medical Technology & Healthcare
DESCRIPTION:The&nbsp\;MEDICA&nbsp\;in D&uuml\;sseldorf is one of the largest B2B medical trade fairs in the world with over 5\,300 exhibitors from almost 70 nations and 83\,000 visitors. A wide range of innovative products and services from the fields of&nbsp\;medical imaging\,&nbsp\;laboratory technology\,&nbsp\;diagnostics\,&nbsp\;Health IT\,&nbsp\;mobile health&nbsp\;and&nbsp\;physiotherapy/orthop&auml\;dietechnik&nbsp\;and&nbsp\;medical consumables&nbsp\;pr&auml\;sent. The extensive&nbsp\;programme&nbsp\;of first-class&nbsp\;forums\,&nbsp\;Conferences&nbsp\;and&nbsp\;Special shows&nbsp\;offers opportunities for interesting presentations and discussions with experts and politicians and also includes pitches of new products and award ceremonies.\nFurther information
LOCATION:Messegelände\, Am Staad (Stockumer Höfe)\, 40474 Düsseldorf
END:VEVENT
END:VCALENDAR
