BEGIN:VCALENDAR
VERSION:2.0
PRODID:-//YourOrganization//EventDownload//DE
CALSCALE:GREGORIAN
METHOD:PUBLISH
BEGIN:VEVENT
UID:69e8a2e904814@leapup.bitshifters.cloud
DTSTAMP:20260422T122857Z
DTSTART:20240618T130000Z
DTEND:20240622T130000Z
SUMMARY:MedtecLIVE 2024
DESCRIPTION:Meeting place for medical technology manufacturers\nThe medical technology trade fair brings together solution-orientated forward-thinkers who exhibit innovative processes in the manufacture of the latest medical technology. In addition to current processes\, components\, materials and services from the entire value chain\, the focus is on personal networking. 
LOCATION:Messe Stuttgart\, Messepiazza 1\, 70629 Stuttgart
END:VEVENT
END:VCALENDAR
