BEGIN:VCALENDAR
VERSION:2.0
PRODID:-//YourOrganization//EventDownload//DE
CALSCALE:GREGORIAN
METHOD:PUBLISH
BEGIN:VEVENT
UID:69e8a2c58bba8@leapup.bitshifters.cloud
DTSTAMP:20260422T122821Z
DTSTART:20240318T000000Z
DTEND:20240320T000000Z
SUMMARY:Microprinting 2024
DESCRIPTION:Join the microprinting community and become part of our interdisciplinary workshop on &lsquo\;Emerging Trends in Microprinting: Materials\, Methods\, and Applications&rsquo\; held in Bad Schandau close to Dresden. Enjoy high-level scientific exchange in the beautiful surroundings of Saxonian Switzerland.\nTo provide an additional opportunity for you to submit your abstracts for the remaining slots\, we decided to extend the deadline for abstract submissions to January 31st 2024. Join the ranks with all the excellent contributions we have received so far in the fields of\n\nprinted\, flexible and organic electronics\, \nwearables\, \nMEMS and bioMEMS\, \nbioprinting and surface functionalization\,\nmicrofluidics\, \nadditive micro-manufacturing\, \ninks\, techniques and devices\,\n&hellip\; and many more.\n\nDon't miss your chance to contribute to a leading event focusing on the latest advancements in microprinting. We welcome abstracts for poster and oral presentations covering a range of topics\, including innovative techniques\, scaling from lab to industry\, and applications in various sectors.Visit the workshop website to learn more!\nPlease use the provided template for your submission and email it to info@oes-net.de with the subject line "Microprinting Abstract Submission."Key Dates:\n\nExtended abstract submission deadline: January 31\, 2024\nNotification of acceptance: February 16\, 2024\n
LOCATION:Hotel Elbresidenz\, Markt 1-11 \, 01814 Bad Schandau
END:VEVENT
END:VCALENDAR
