BEGIN:VCALENDAR
VERSION:2.0
PRODID:-//YourOrganization//EventDownload//DE
CALSCALE:GREGORIAN
METHOD:PUBLISH
BEGIN:VEVENT
UID:69e8c973129e3@leapup.bitshifters.cloud
DTSTAMP:20260422T151323Z
DTSTART:20221207T160000Z
DTEND:20221207T170000Z
SUMMARY:More than Moore via 2.5D IC Integration - Automotive Electronic Control Unit (ECU) for ADAS Application Based on a Chiplet Approach
DESCRIPTION:Based on the state of the art of integration technologies\, our webinar shows possible integration approaches for chiplet-based multi-die systems to build future ECU architecture e.g. for ADAS application. Furthermore\, we discuss current and future chip to chip standards and their advantages and disadvantages for automotive applications.\nThe live webinar is an interactive event and offers the opportunity to enter into an exchange of experience and knowledge with current topics.
LOCATION:Online\, Dresden
END:VEVENT
END:VCALENDAR
