BEGIN:VCALENDAR
VERSION:2.0
PRODID:-//YourOrganization//EventDownload//DE
CALSCALE:GREGORIAN
METHOD:PUBLISH
BEGIN:VEVENT
UID:69e4c82fc9111@leapup.bitshifters.cloud
DTSTAMP:20260419T141855Z
DTSTART:20220322T100000Z
DTEND:20220322T120000Z
SUMMARY:”MPS User Days – Microsystems for physiological cell culture”
DESCRIPTION:The workshop addresses the following users and applications:\n\nBiologists\, biotechnologists\, medical experts\, material scientists and passionate cell culture users who would like to inform themselves about the manifold possibilities of MPS regarding configuration and fields of application\nUsers of current MPS platforms who are interested in experience reports and would like to exchange ideas and information\nEngineers and technical experts who are interested in the design\, prototyping and scalable manufacturing of Microsystems and MPS\n\nMore\nRegistration
END:VEVENT
END:VCALENDAR
