BEGIN:VCALENDAR
VERSION:2.0
PRODID:-//YourOrganization//EventDownload//DE
CALSCALE:GREGORIAN
METHOD:PUBLISH
BEGIN:VEVENT
UID:69e4c8305396e@leapup.bitshifters.cloud
DTSTAMP:20260419T141856Z
DTSTART:20230207T100000Z
DTEND:20230207T121500Z
SUMMARY:MPS User Days – Microsystems for physiological cell culture
DESCRIPTION:\nMPS User Days &ndash\; Microsystems for physiological cell culture\nMicrophysiological systems (MPS) are a high-performance tool for research and development in the field of tissue reconstruction\, drug and cytotoxicity studies. Fraunhofer IWS has established a wide range of technical expertise in design\, configuration\, operation\, monitoring and analysis of these systems and has developed its own technology platform for the setup of MPS. If you are interested in learning more about the functionalities and the manifold applications of our technology\, please join our online workshop. Benefit from our expertise and exchange ideas.\nWhat does the workshop include?\nThe first part of the workshop will provide an overview of basic MPS technologies.&nbsp\;We will address topics such as manufacturing of microfluidic devices and solutions to control the micro physiology inside MPS. Also solutions for online monitoring of critical physiological conditions and solutions for data management and integration will be presented.\nIn the second part\, users will have a chance to speak. They report on their experiences with novel MPS applications and share their insights on questions such as:\n\nWhich applications can be addressed by MPS?\nWhat are their advantages and disadvantages?\nHow can new MPS be implemented in your daily laboratory routine?\n\nIn line with the "mentoring principle"\, we would like to offer the online workshop as a framework in which both potential users and experienced users can discuss with each other and benefit from their insights. The workshop is intended to establish the foundation of a user network that aims at long-term exchange and mutual support in use and further development of MPS.\nThe workshop addresses the following users and applications:\nBiologists\, biotechnologists\, medical experts\, material scientists and passionate cell culture users who would like to inform themselves about the manifold possibilities of MPS regarding configuration and fields of applicationUsers of current MPS platforms who are interested in experience reports and would like to exchange ideas and informationEngineers and technical experts who are interested in the design\, prototyping and scalable manufacturing of Microsystems and MPSWe are looking forward to your participation.\nMORE
END:VEVENT
END:VCALENDAR
