BEGIN:VCALENDAR
VERSION:2.0
PRODID:-//YourOrganization//EventDownload//DE
CALSCALE:GREGORIAN
METHOD:PUBLISH
BEGIN:VEVENT
UID:69e633696ec3f@leapup.bitshifters.cloud
DTSTAMP:20260420T160841Z
DTSTART:20240417T150000Z
DTEND:20240417T160000Z
SUMMARY:NDT4INDUSTRY: Characterisation methods for the further development of biologised materials
DESCRIPTION:Biologised materials integrate or imitate biological components or structures. By integrating biological components to introduce new functionalities\, these materials hold immense potential for all industries\, from healthcare to sustainability.\nIn our next NDT4INDUSTRY online seminar\, you will learn how cutting-edge characterisation technologies such as optical coherence tomography (OCT) and in-situ nanomechanical SEM/TEM assessments are being used to unravel the intricacies of these materials.\nIn our lab tours\, you will learn about living building materials that use living organisms and mineralisation capabilities for structural enhancement\, electrospun membranes equipped with bacteriophages that target specific bacteria\, and customisable artificial bones that mimic the structural features of real cancellous and cortical bone. 
END:VEVENT
END:VCALENDAR
