BEGIN:VCALENDAR
VERSION:2.0
PRODID:-//YourOrganization//EventDownload//DE
CALSCALE:GREGORIAN
METHOD:PUBLISH
BEGIN:VEVENT
UID:69e4ce43b5353@leapup.bitshifters.cloud
DTSTAMP:20260419T144451Z
DTSTART:20240910T084500Z
DTEND:20240910T160000Z
SUMMARY:Post-market compliance - efficient implementation of PMS\, PMCF and vigilance
DESCRIPTION:In the strictly regulated field of medical devices\, post-market surveillance (PMS) is of crucial importance for the sustainable success of your medical devices. 
LOCATION:Online\, Offenbach am Main
END:VEVENT
END:VCALENDAR
