BEGIN:VCALENDAR
VERSION:2.0
PRODID:-//YourOrganization//EventDownload//DE
CALSCALE:GREGORIAN
METHOD:PUBLISH
BEGIN:VEVENT
UID:69e8a20de7f45@leapup.bitshifters.cloud
DTSTAMP:20260422T122517Z
DTSTART:20250409T090000Z
DTEND:20250410T163000Z
SUMMARY:Predictive maintenance training
DESCRIPTION:The second training course offered by Fraunhofer IIS/EAS focuses on innovative maintenance strategies and shows participants the competitive advantages of intelligent condition monitoring. Course participants receive a concrete checklist for the introduction of predictive maintenance in their companies.
LOCATION:Fraunhofer EAS/IIS\, Münchner Straße 16\, 01187 Dresden
END:VEVENT
END:VCALENDAR
