BEGIN:VCALENDAR
VERSION:2.0
PRODID:-//YourOrganization//EventDownload//DE
CALSCALE:GREGORIAN
METHOD:PUBLISH
BEGIN:VEVENT
UID:69e745c8ed42f@leapup.bitshifters.cloud
DTSTAMP:20260421T113920Z
DTSTART:20241029T133000Z
DTEND:20241029T183000Z
SUMMARY:Project workshop "Bioactive surfaces for life science applications"
DESCRIPTION:Bioactivity basically refers to the influence\, effect or extent of an effect of a substance or substrate on a living organism\, tissue or cell material.If you search the internet for the term &bdquo\;bioactivity&ldquo\;\, you will mainly find results on health-promoting substances in food. However\, the spectrum of bioactivity is much more diverse and has many facets. For example\, bioactive substances and materials can promote or prevent cell growth\, combine with organic materials or grow together with them\, or be used for air purification. Fields of application are therefore not only the more familiar ones in the food industry\, medicine or medical technology\, but also biotechnology\, environmental technology or the construction industry\, among others.
LOCATION:FILK Freiberg Institute gGmbH\, Meißner Ring 1\, 09599 Freiberg
END:VEVENT
END:VCALENDAR
