BEGIN:VCALENDAR
VERSION:2.0
PRODID:-//YourOrganization//EventDownload//DE
CALSCALE:GREGORIAN
METHOD:PUBLISH
BEGIN:VEVENT
UID:69e8a1e29c762@leapup.bitshifters.cloud
DTSTAMP:20260422T122434Z
DTSTART:20250513T090000Z
DTEND:20250515T160000Z
SUMMARY:rapid.tech 3D
DESCRIPTION:rapid.tech 3D is one of the most important information events in the field of additive manufacturing processes.\nUnder the&nbsp\;motto&nbsp\;&bdquo\;Innovative &amp\; Profitable - The future of additive manufacturing&ldquo\;&nbsp\;21.&nbsp\;rapid.tech 3D&nbsp\;in Erfurt&nbsp\;from 13 to 15 May 2025&nbsp\;will focus on practical applications\, innovative technologies and future-oriented AM trends.\nIf you have always wanted to know how you can get 3D printing up and running profitably in your company\, then rapid.tech 3D is the right place to go. Here you will receive know-how from makers for makers and benefit directly from the intensive professional exchange with our experts.\nOur triad of specialist congress\, exhibition and networking opportunities offers the best conditions for increasing your knowledge.\nThis year you can expect:\n\n4 first-class&nbsp\;keynote speakers\n2 insightful&nbsp\;panel discussions\n8 user-strong AM forums (e.g. Aerospace\, Mobility\, Software\, AI &amp\; Design and many more)\n1 quality-tested AM science forum\nTechnical Deep Dives Tour\nAM Science Poster Slam\n6&nbsp\;Expert Tables\n\n&nbsp\;\nMore information about rapid.tech 3D can be found here.
LOCATION:Messe Erfurt\, Gothaer Straße 34\, 99094 Erfurt
END:VEVENT
END:VCALENDAR
