BEGIN:VCALENDAR
VERSION:2.0
PRODID:-//YourOrganization//EventDownload//DE
CALSCALE:GREGORIAN
METHOD:PUBLISH
BEGIN:VEVENT
UID:69e8e1ed73fab@leapup.bitshifters.cloud
DTSTAMP:20260422T165749Z
DTSTART:20230822T130000Z
DTEND:20230822T143000Z
SUMMARY:R&D Grants „Overview of funding opportunities for medical devices“
DESCRIPTION:\nIntroduction in non-dilutive funding\nFunding opportunities Saxony\, Germany\, Europe\n\nWhat will be funded\nProposal requirements\nFunding rates\nTime schedules\n\n\n\nQuestions &amp\; Discussion\nSpeaker:&nbsp\;Daniel Schubart |&nbsp\;ConsulTech GmbH\nCosts: 300 EUR plus VAT.\nRegistration: events@biosaxony.com
END:VEVENT
END:VCALENDAR
