BEGIN:VCALENDAR
VERSION:2.0
PRODID:-//YourOrganization//EventDownload//DE
CALSCALE:GREGORIAN
METHOD:PUBLISH
BEGIN:VEVENT
UID:69e4c8415895d@leapup.bitshifters.cloud
DTSTAMP:20260419T141913Z
DTSTART:20250917T135500Z
DTEND:20250917T151500Z
SUMMARY:Reg Talk Medical Engineering: Data for AI-based medical devices
DESCRIPTION:Particularly when using AI-based systems in healthcare\, it is important that these medical devices are safe and effective. The quality of AI-based systems depends largely on the data used to train the AI model and that used in subsequent operation. Known challenges for data regarding AI model development include:  \n\nsufficient data set size\, \nconsistency between and within data sets\, \ncompleteness\, \nrepresentativeness\, and \nabsence of bias. \n\nFor manufacturers\, the question arises how they can implement data management efficiently and in compliance with legal requirements for both the development and market phases of the AI-based medical device. In addition\, manufacturers should take a close look at the actual conditions at the users in the clinical environment. \nThis event will give you an overview of the requirements for data in AI-based medical devices\, as well as insights into the technical implementation of data management and the application and challenges in clinical practice. \nWe are looing forward to your participation! 
END:VEVENT
END:VCALENDAR
