BEGIN:VCALENDAR
VERSION:2.0
PRODID:-//YourOrganization//EventDownload//DE
CALSCALE:GREGORIAN
METHOD:PUBLISH
BEGIN:VEVENT
UID:69e4c830cd8ff@leapup.bitshifters.cloud
DTSTAMP:20260419T141856Z
DTSTART:20250603T135500Z
DTEND:20250603T151500Z
SUMMARY:Reg Talk Medical Engineering: Implementing IMDRF Codes - A Guide for Companies
DESCRIPTION:Reg Talk Medical Engineering&nbsp\;deals with the regulatory framework for medical devices. This time the focus is on IMDRF codes as an important aspect of post-market surveillance.\nThe IMDRF codes\, also known as "Terminologies for Categorised Adverse Event Reporting"\, provide a standardised method for describing and classifying incidents related to medical devices.Developed at a global level\, the IMDRF codes are already widely used at EU level.&nbsp\;&nbsp\;\nIn this event\, our expert Sophia Zoe Narten will show you how you can successfully implement the use of the IMDRF codes in your company. Benefit from her practical experience to overcome typical challenges and learn proven methods for implementation in your company.\nWe look forward to your participation!&nbsp\;\n&nbsp\;\nFor more information about the event\, please see here.
LOCATION:MS Teams\, Offenbach am Main
END:VEVENT
END:VCALENDAR
