BEGIN:VCALENDAR
VERSION:2.0
PRODID:-//YourOrganization//EventDownload//DE
CALSCALE:GREGORIAN
METHOD:PUBLISH
BEGIN:VEVENT
UID:69e4ce2a92c10@leapup.bitshifters.cloud
DTSTAMP:20260419T144426Z
DTSTART:20260602T000000Z
DTEND:20260603T000000Z
SUMMARY:SaxoCell Conference on Cell and Gene Therapy
DESCRIPTION:SAVE THE DATE\nSaxoCell\, the Saxonian Cell and Gene Therapy Cluster\, invites people from academia\, industry\, politics and further stakeholders to a conference with the focus on „How to bring new\, safe and affordable cell and gene therapies from the lab bench to the clinics“. In presentations and panel discussions\, state-of-the-art technologies and science in cell and gene therapies are shown and questions are examined how the much-described ‘valley of death’ can be overcome in the development of complex ATMPs. In pitch sessions\, founding teams will present their innovative technologies and tell what they need to be successful. The programme will be rounded off with an opening reception with a special guest and further networking opportunities over food and drinks.\nMore information will follow soon!
END:VEVENT
END:VCALENDAR
