BEGIN:VCALENDAR
VERSION:2.0
PRODID:-//YourOrganization//EventDownload//DE
CALSCALE:GREGORIAN
METHOD:PUBLISH
BEGIN:VEVENT
UID:69e8cb1ca5514@leapup.bitshifters.cloud
DTSTAMP:20260422T152028Z
DTSTART:20250625T100000Z
DTEND:20250625T200000Z
SUMMARY:Saxon Innovation Conference 2025
DESCRIPTION:The Saxon Innovation Conference offers a platform to present innovative ideas\, transfer projects and entrepreneurial progress in Saxony. Highlights include exciting keynotes\, inspiring talks\, the futureSAX showcase and community get-togethers for dialogue within the innovation community. Outstanding start-up ideas\, transfer projects and companies will also be recognised and honoured for their achievements. 
LOCATION:Messe Dresden \, Messering 6 \, 01067 Dresden
END:VEVENT
END:VCALENDAR
