BEGIN:VCALENDAR
VERSION:2.0
PRODID:-//YourOrganization//EventDownload//DE
CALSCALE:GREGORIAN
METHOD:PUBLISH
BEGIN:VEVENT
UID:69e8c9687a394@leapup.bitshifters.cloud
DTSTAMP:20260422T151312Z
DTSTART:20230522T143000Z
DTEND:20230522T163000Z
SUMMARY:Seminar: Bioluminescent Technologies for studying Protein Biology and Cellular Responses 
DESCRIPTION:This seminar introduces a comprehensive set of bioluminescent technologies based on the versatile NanoLuc&reg\; luciferase. Discover how the extraordinary brightness of this reporter benefits research in the field of cell biology. You will learn how to investigate protein interactions in live cells using NanoBRET&trade\;&nbsp\;and NanoBiT&reg\; technologies and experience how the HiBiT Protein Tagging System enables studies on cellular protein dynamics\, viral infection\, and target cell killing. The combination of HiBiT with CRISPR genome editing provides a tool to study proteins under their native expression conditions. Furthermore\, you will explore how to analyze signaling pathways with NanoLuc&reg\; reporter genes. Finally\, experience the possibilities of Lumit&trade\; Immunoassays\, an innovative fast-track method for protein quantification and interaction analysis.&nbsp\; &nbsp\;\nRegister here!
LOCATION:BioInnovationsZentrum (BIOZ)\, 5th Floor (Room 1)\, Tatzberg 47\, 01307 Dresden
END:VEVENT
END:VCALENDAR
