BEGIN:VCALENDAR
VERSION:2.0
PRODID:-//YourOrganization//EventDownload//DE
CALSCALE:GREGORIAN
METHOD:PUBLISH
BEGIN:VEVENT
UID:69e8c96dac150@leapup.bitshifters.cloud
DTSTAMP:20260422T151317Z
DTSTART:20230523T100000Z
DTEND:20230523T120000Z
SUMMARY:Seminar: Bioluminescent Technologies for studying Protein Biology and Cellular Responses 
DESCRIPTION:This seminar introduces a comprehensive set of bioluminescent technologies based on the versatile NanoLuc&reg\; luciferase. Discover how the extraordinary brightness of this reporter benefits research in the field of cell biology. You will learn how to investigate protein interactions in live cells using NanoBRET&trade\;&nbsp\;and NanoBiT&reg\; technologies and experience how the HiBiT Protein Tagging System enables studies on cellular protein dynamics\, viral infection\, and target cell killing. The combination of HiBiT with CRISPR genome editing provides a tool to study proteins under their native expression conditions. Furthermore\, you will explore how to analyze signaling pathways with NanoLuc&reg\; reporter genes. Finally\, experience the possibilities of Lumit&trade\; Immunoassays\, an innovative fast-track method for protein quantification and interaction analysis. \nRegister now!
LOCATION:BIO CITY Leipzig\, BIO CITY Atrium (ground floor)\, Conference room 2\, Deutscher Platz 5\, 04103 Leipzig
END:VEVENT
END:VCALENDAR
