BEGIN:VCALENDAR
VERSION:2.0
PRODID:-//YourOrganization//EventDownload//DE
CALSCALE:GREGORIAN
METHOD:PUBLISH
BEGIN:VEVENT
UID:69e8b5e271432@leapup.bitshifters.cloud
DTSTAMP:20260422T134954Z
DTSTART:20241008T090000Z
DTEND:20241010T163000Z
SUMMARY:Seminar on analysing proficiency tests with PROLab
DESCRIPTION:Seminar on the evaluation of interlaboratory comparisons with PROLab08 - 10 October 2024Time &amp\; Place:&nbsp\;&nbsp\;08 - 10 October 2024\, 9 &ndash\; 16:30 in Dresden\nSpeakers:&nbsp\;Dipl.-Math. Bertrand Colson\,&nbsp\;Omri Teufert\nPrice:&nbsp\;1800\,- &euro\; net\nOverview:\nDay 1: Introduction to the planning and evaluation of interlaboratory comparisonsDay 2: Homogeneity\, stability\, sample characterisation\, cross-sample evaluationDay 3: Measurement uncertainty\, MU-Hampel and method-specific evaluationTarget group:\nOrganisers of proficiency testing and EQA in all industriesOrganisers of cross-laboratory method validation studiesUsers of PROLabBenefit from the exchange with other participants and QuoData experts.\nThe participation fee is 1800\,- &euro\; net\, incl. lunchPresentation slides\, PROLab Plus demo version&nbsp\;and certificate of participation are included in the priceWe have recommendations for booking accommodation - please contact us\n\nFurther information\n
LOCATION:QuoData GmbH\, 01309 Dresden
END:VEVENT
END:VCALENDAR
