BEGIN:VCALENDAR
VERSION:2.0
PRODID:-//YourOrganization//EventDownload//DE
CALSCALE:GREGORIAN
METHOD:PUBLISH
BEGIN:VEVENT
UID:69e8c8194f8d7@leapup.bitshifters.cloud
DTSTAMP:20260422T150737Z
DTSTART:20240618T160000Z
DTEND:20240618T190000Z
SUMMARY:Stammtisch Life Science - AI in biotechnology
DESCRIPTION:Artificial intelligence (AI) can be found in a growing number of applications\, including in the field of biotechnology\n\nWhether in sensory applications for&nbsp\;evaluation\, in production for planning and quality control or as a fully automated health kiosk&ndash\; the range of applications is diverse. &bdquo\;We!&nbsp\; are&nbsp\; DIANA&ldquo\; presents some of them.\nIn order to establish artificial intelligence in the company\, AI guides can pave the way. Learn about the basics and possible applications of artificial intelligence in order to apply it in SMEs. The project aims to provide impetus for developing digital AI strategies. The necessary skills are taught and the necessary tools are provided. 
LOCATION:Fraunhofer-Institut für Zelltherapie und Immunologie IZI\, Perlickstraße 1\, 04103 Leipzig
END:VEVENT
END:VCALENDAR
