BEGIN:VCALENDAR
VERSION:2.0
PRODID:-//YourOrganization//EventDownload//DE
CALSCALE:GREGORIAN
METHOD:PUBLISH
BEGIN:VEVENT
UID:69e74424d83e2@leapup.bitshifters.cloud
DTSTAMP:20260421T113220Z
DTSTART:20240925T140000Z
DTEND:20240925T170000Z
SUMMARY:Sterile technology network meeting
DESCRIPTION:As part of the Sterile Technology Competence Network\, we cordially invite you to the "Sensitive Medical Products - the Fascination of Sterilisation and Logistics"&nbsp\; event on 25 September 2024.\nLet's create together&nbsp\;an open space for discussions\, networking and the exchange of professional information on the topic&nbsp\;We look forward to welcoming you to our networking event and would also like to thank our host this time\, World Courier Leipzig.\nAgenda:\n\n\nGreeting biosaxony /&nbsp\;Fraunhofer FEP\n\n\n&nbsp\; &nbsp\; &nbsp\; &nbsp\; Dr Carola Graf and&nbsp\;Dr Gaby Gotzmann\n\n\nLecture: Martin Pohle | World Courier\n\n\n&nbsp\; &nbsp\; &nbsp\; &nbsp\;&bdquo\;Resilient supply chains in pharmaceutical logistics&ldquo\;\n\n\nUse Case: Dr Jasmin Fertey | Fraunhofer Institute for Cell Therapy and Immunology\n\n\n&nbsp\; &nbsp\; &nbsp\; &nbsp\; "Low-energy electron irradiation (LEEI) for the inactivation of pathogens in liquids"\n\nTour| World Courier Leipzig\n\nRegister now
LOCATION:World Courrier\, Brandenburger Str. 28\, 04347 Leipzig
END:VEVENT
END:VCALENDAR
